Workbook
Name _List_Sector: #REF!
Name _Par_Gebäude_Abschreibungsdauer: #REF!
Name _Par_Gebäude_AußenwändeKorrekturfaktor: #REF!
Name _Par_Gebäude_Bilanzverfahren_Auswahl: #REF!
Name _Par_Gebäude_Bilanzverfahren_Liste: #REF!
Name _Par_Gebäude_Bilanzverfahren_Liste: #REF!
Name _Par_Gebäude_Bilanzverfahren_Liste: #REF!
Name _Par_Gebäude_Brennstoff_Liste_Referenz: #REF!
Name _Par_Gebäude_Brennstoff_Liste_Referenz: #REF!
Name _Par_Gebäude_Brennstoff_Liste_Referenz: #REF!
Name _Par_Gebäude_Brennstoff_Liste_Sanierung: #REF!
Name _Par_Gebäude_Brennstoff_Liste_Sanierung: #REF!
Name _Par_Gebäude_Brennstoff_Liste_Sanierung: #REF!
Name _Par_Gebäude_CO2Bepreisung: #REF!
Name _Par_Gebäude_CO2Preispfad: #REF!
Name _Par_Gebäude_Diskontsatz: #REF!
Name _Par_Gebäude_Emissionsbilanzierung: #REF!
Name _Par_Gebäude_Heizgrenztemperatur: #REF!
Name _Par_Gebäude_Heizlast: #REF!
Name _Par_Gebäude_Himmelsrichtungen: #REF!
Name _Par_Gebäude_Klimadatensatz_Auswahl: #REF!
Name _Par_Gebäude_Klimadatensatz_Liste: #REF!
Name _Par_Gebäude_Klimadatensatz_Liste: #REF!
Name _Par_Gebäude_Klimadatensatz_Liste: #REF!
Name _Par_Gebäude_OMDummy: #REF!
Name _Par_Gebäude_Sanierung_Fenster_Fenstergröße: #REF!
Name _Par_Gebäude_Sanierung_Fenster_Rahmenart: #REF!
Name _Par_Gebäude_Sanierung_Fenster_Rahmenart: #REF!
Name _Par_Gebäude_Sanierung_Fenster_Rahmenart: #REF!
Name _Par_Gebäude_Umweltkosten: #REF!
Name _Par_Gebude_Sanierung_Heiztechnologien_Liste: #REF!
Name _Par_Gebude_Sanierung_Heiztechnologien_Liste: #REF!
Name _Par_Gebude_Sanierung_Heiztechnologien_Liste: #REF!
Name _Par_Strom_Brennstoff_Liste: #REF!
Name _Par_Strom_Brennstoff_Liste: #REF!
Name _Par_Strom_Brennstoff_Liste: #REF!
Name _Par_Strom_CO2Preis: #REF!
Name _Par_Strom_Emissionsbilanzierung: #REF!
Name _Par_Strom_ETSGrenzwert: #REF!
Name _Par_Strom_Kapitalkosten: #REF!
Name _Par_Strom_Standort: #REF!
Name _Par_Strom_Startjahr: #REF!
Name _Par_Strom_Umweltkosten: #REF!
Name AbsCh1: #REF!
Name AbsCh11: #REF!
Name Action_Status: #REF!
Name ActionStatus: #REF!
Name AdaptationSectors: #REF!
Name AdaptationType: #REF!
Name AdaptChangeLevel: #REF!
Name AdaptIntensity: #REF!
Name AdaptIntensityRisks: #REF!
Name AdaptSectors: #REF!
Name AdaptSerioussness: #REF!
Name AdaptType: #REF!
Name Advanced_Refurbishment_InvestmentGemany2020_Floor: #REF!
Name Advanced_Refurbishment_InvestmentGemany2020_Roof: #REF!
Name Advanced_Refurbishment_InvestmentGemany2020_Wall: #REF!
Name Advanced_Refurbishment_InvestmentGemany2020_Window: #REF!
Name AnnualizedFactor_BiomassBoiler: #REF!

Sheet Cover
C9: Social Cost-Benefit Analysis Tool (Regio1st SCBA tool)
C11: REGIO1st Planning Framework
C12: Stage 5 - Performing a Cost-Benefit Analysis
C13: https://ieecp.org/projects/regio1st/
C15: Date of last update | F15: 45789
C16: Version number | F16: 1
C18: Prepared by | F18: IEECP - Institute for European Energy and Climate Policy
C19: Contact | F19: marco@ieecp.org
F21: Co-founded by the European Union under project n°101076088. Views and opinions expressed are however those of the
F22: author(s) only and do not necessarily reflect those of the European Union or CINEA. Neither the European Union nor the
F23: granting authority can be held responsible for them.

Sheet Instructions
C9: =Cover!C9 -> Social Cost-Benefit Analysis Tool (Regio1st SCBA tool)
C11: User instructions
C15: Guidance
C17: Objective
C19: The Social Cost-Benefit Analysis tool was developed to quantify the implementation of different types of policies promoting energy efficiency. The tool aims at understanding regional decision processes and at validating the framework to customize it for further replication in other EU regions. Additionally, the SCBA tool aims to help the regions structure their regional decision-making processes in a way that leads to informed decisions where the EE1st principle is considered.
C21: Description
C23: This tool (Social Cost-Benefit Analysis) is a structured tool designed to quantify social impacts that might not be considered when quantifying multiple impacts resulting from the implementation of different policies. The tool aids regions and their planners to select the most optimal policy option considering not only economic factors, but social ones too. It provides a simplified way for regions and planners to consider all the multiple impacts that might arise when implementing policies promoting energy efficiency. This tool allows the comparison between an original CBA, where only economic factors are considered, and a social CBA, where also other social factors are considered.
C24: Scenario Description
C25: Baseline Scenario | D25: The baseline scenario compares the installation of higher energy efficient gas boilers to the current one used by most of the population (which of course could be other fuels for heating, such as biomass individual boilers or district heating with various sources). Essentially, this scenario explores what investing in fossil fuels would result in.
C26: Scenario 1 - Deep renovation | D26: Scenario1 – Deep renovation analyses a situation in which the available regional budgets are devoted to the energy investments on the supply side for both space heating and cooling purposes and upgrading existing building envelopes including window frames, doors, walls, roof, and floor area of the buildings with more energy efficient ones.
C27: Scenario 1 - Medium renovation | D27: Scenario 1 – Medium renovation analyses a situation similar to the one previously described. However, in this case smaller retrofit investments are considered which result in a smaller general energy efficiency improvement of the building.
C28: Scenario 2 - Heat pump implementation | D28: Scenario 2 refers solely to heating and cooling system substitution and assumed that the available regional budgets for the development and expansion of the supply side energy investments would be used to install heat pumps in the residential buildings
C29: Scenario 3 - Deep renovation | D29: This scenario analyses a situation in which the available budget for the supply side energy investments would be employed to promote zero-energy buildings (ZEBs) by combining a set of different investments. Namely, thermally insulating the exterior masonry, improving the cavity wall and solid insulation on wall/roof insulation and floor, façade, replacing existing window frames with more energy efficient ones, installing heat pumps in residential buildings, and installations of the photovoltaic solar panels
C30: Scenario 3 - Medium renovation | D30: In this case smaller renovation investments are considered which result in a smaller general energy efficiency improvement of the building. Nonetheless, an implementation of heat pumps and photovoltaics is foreseen.
C32: Methodology
C34: In order to provide comparisons between a CBA and SCBA, planners need to:
C35: 1. Identify system boundaries, in this case being fuel prices, energy consumptions, efficiency of different fuel technologies
C36: 2. Establish different scenarios
C37: 3. Identify and quantify externalities
C38: 4. Compare the different indicators per scenario, being NPV, IRR, B/C
C40: How do I use this tool?
C42: As a general rule, all cells indicated in orange need to be filled in.
C43: The first step will be to fill in the sheets where the electiricity, gas prices, and other fuel prices are indicated | D43: The electricity and gas prices are taken from Eurostat. Nonetheless, in case the user wants to change these or found more udpates figures, these can be freely modified, as with any component of the tool.
C44: The second step will be to fill in all the orange cells in the Scenario 0 sheets | D44: This includes the budget, the energy consumption, the efficiencies of different fuel technologies, and the share of households that use a certain type of fuel
C45: Lastly, the user is required to fill in any other orange cells that might be seen in the other sheets | D45: Please note, the externality values were gathered from literature, nonetheless the user is free to change these as well if deemed needed.
C46: Finally, the user will be able to see all the different scenarios compared in the "Conclusions" Sheet
C49: Scientific base
C51: The CBA aims to examine the social profitability of the examined energy efficiency projects, justifying the potential utilization of specific financial schemes (such as subsidies) in relation with the results of the financial analysis. The conduction of the financial analysis and the social CBA leads to the calculation of two different indicators, namely the financial Net Present Value (NPV) (or the financial Internal Rate of Return (IRR)) and the social NPV (or the social IRR respectively). Another considered metric is the Benefit-to-Cost Ratio (B/C Ratio).
C59: Potential result of calculations | D59: Financial NPV | E59: Social NPV | F59: Conclusions | G59: Next steps
C60: 1st | D60: ≥ 0 | E60: ≥ 0 | F60: Economically and socially beneficial to invest/implement projects/interventions. | G60: Promoting these types of investments/interventions
C61: 2nd | D61: ≤ 0 | E61: ≥ 0 | F61: Economically is not beneficial. However, socially is important to invest/implement the project/intervention. | G61: Providing financial supports, e.g., subsidies, increasing municipality’s equity share in the investment
C62: 3rd | D62: ≥ 0 | E62: ≤ 0 | F62: Economically is beneficial to invest on a project and not socially beneficial. | G62: Penalty for the investors and imposing the incentives that distribute the economic benefits among different groups, such as tax.
C63: 4th | D63: ≤ 0 | E63: ≤ 0 | F63: Economically and socially is not beneficial. | G63: Stop the investments/interventions

Sheet Energy prices
C2: Fuel prices
C5: Price with tax and levies | D5: Net price
B6: Electricity (E/MWh) | C6: 240 | D6: 212
B7: Petroleum | C7: 110
B8: Natural gas | C8: 114 | D8: 94
B9: Solar thermal
B10: Biomass | C10: 17
B11: Ambient heat | C11: 0
B12: District heating
B13: Other

Sheet Sc0-CBA
C1: Baseline Scenario - Cost-Benefit Analysis
B6: Instructions: | C6: all cells indicated in orange need to be filled in.
B9: Available budget for Natural Gas network expansion | C9: 680000000 | D9: € | F9: Year | G9: Cost | H9: Benefit | I9: Fuel cost | J9: Fuel benefit | K9: Investment cost | L9: Remaining value | M9: Net cash flow
B10: Unitary investment cost | C10: 2000 | D10: € | F10: 0 | K10: =C9-C12*C13 -> 680000000 | M10: =(H10+J10+L10)-(G10+I10+K10) -> -680000000
B11: Unitary investment cost with subsidy | C11: =C10*(1-C47) -> 2000 | D11: € | F11: 1 | G11: =$C$29 -> 0 | H11: =$C$28 -> 0 | I11: =$C$33*$C$38*$C$13 -> 125870448 | J11: =$C$15*$C$26*$C$13*$H$33+$C$15*$C$27*$C$13*$H$34+$C$15*$C$25*$C$13*$H$35+$C$15*$C$32*$C$13*$H$36 -> 169266416 | M11: =(H11+J11+L11)-(G11+I11+K11) -> 43395968
B12: Avoided cost from natural gas boiler | C12: 0 | D12: € | F12: 2 | G12: =$C$29 -> 0 | H12: =$C$28 -> 0 | I12: =$C$33*$C$38*$C$13 -> 125870448 | J12: =$C$15*$C$26*$C$13*$H$33+$C$15*$C$27*$C$13*$H$34+$C$15*$C$25*$C$13*$H$35+$C$15*$C$32*$C$13*$H$36 -> 169266416 | M12: =(H12+J12+L12)-(G12+I12+K12) -> 43395968
B13: Number of influenced households | C13: =C9/C11 -> 340000 | D13: nr of households | F13: 3 | G13: =$C$29 -> 0 | H13: =$C$28 -> 0 | I13: =$C$33*C50*$C$13 -> 1.2662567e+08 | J13: =$C$15*C50*$C$13*$H$33+$C$15*C54*$C$13*$H$34+$C$15*$C$25*$C$13*$H$35+$C$15*$C$32*$C$13*$H$36 -> 1.6996429e+08 | M13: =(H13+J13+L13)-(G13+I13+K13) -> 43338623
B14: Unitary energy consumption for space cooling | C14: 104 | D14: kWh | F14: 4 | G14: =$C$29 -> 0 | H14: =$C$28 -> 0 | I14: =$C$33*C51*$C$13 -> 1.3104218e+08 | J14: =$C$15*C51*$C$13*$H$33+$C$15*C55*$C$13*$H$34+$C$15*$C$25*$C$13*$H$35+$C$15*$C$32*$C$13*$H$36 -> 1.7400499e+08 | M14: =(H14+J14+L14)-(G14+I14+K14) -> 42962812
B15: Unitary energy consumption for space heating | C15: 4070 | D15: kWh | F15: 5 | G15: =$C$29 -> 0 | H15: =$C$28 -> 0 | I15: =$C$33*C52*$C$13 -> 1.321463e+08 | J15: =$C$15*C52*$C$13*$H$33+$C$15*C56*$C$13*$H$34+$C$15*$C$25*$C$13*$H$35+$C$15*$C$32*$C$13*$H$36 -> 1.7494597e+08 | M15: =(H15+J15+L15)-(G15+I15+K15) -> 42799670
B16: Degree of efficiency of new natural gas boiler | C16: 0.95 | D16: % | F16: 6 | G16: =$C$29 -> 0 | H16: =$C$28 -> 0 | I16: =$C$33*$C$53*$C$13 -> 1.3325043e+08 | J16: =$C$15*$C$53*$C$13*$H$33+$C$15*$C$57*$C$13*$H$34+$C$15*$C$25*$C$13*$H$35+$C$15*$C$32*$C$13*$H$36 -> 1.7588696e+08 | M16: =(H16+J16+L16)-(G16+I16+K16) -> 42636527
B17: Degree of efficiency of existing natural gas boiler | C17: 0.85 | D17: % | F17: 7 | G17: =$C$29 -> 0 | H17: =$C$28 -> 0 | I17: =$C$33*$C$53*$C$13 -> 1.3325043e+08 | J17: =$C$15*$C$53*$C$13*$H$33+$C$15*$C$57*$C$13*$H$34+$C$15*$C$25*$C$13*$H$35+$C$15*$C$32*$C$13*$H$36 -> 1.7588696e+08 | M17: =(H17+J17+L17)-(G17+I17+K17) -> 42636527
B18: Unitary energy consumption after gas to gas changes | C18: =C15*C17/C16 -> 3641.5789 | D18: kWh | F18: 8 | G18: =$C$29 -> 0 | H18: =$C$28 -> 0 | I18: =$C$33*$C$53*$C$13 -> 1.3325043e+08 | J18: =$C$15*$C$53*$C$13*$H$33+$C$15*$C$57*$C$13*$H$34+$C$15*$C$25*$C$13*$H$35+$C$15*$C$32*$C$13*$H$36 -> 1.7588696e+08 | M18: =(H18+J18+L18)-(G18+I18+K18) -> 42636527
B19: Degree of efficiency of petroleum boiler | C19: 0.8 | D19: % | F19: 9 | G19: =$C$29 -> 0 | H19: =$C$28 -> 0 | I19: =$C$33*$C$53*$C$13 -> 1.3325043e+08 | J19: =$C$15*$C$53*$C$13*$H$33+$C$15*$C$57*$C$13*$H$34+$C$15*$C$25*$C$13*$H$35+$C$15*$C$32*$C$13*$H$36 -> 1.7588696e+08 | M19: =(H19+J19+L19)-(G19+I19+K19) -> 42636527
B20: Degree of efficiency of biomass boiler | C20: 0.3 | D20: % | F20: 10 | G20: =$C$29 -> 0 | H20: =$C$28 -> 0 | I20: =$C$33*$C$53*$C$13 -> 1.3325043e+08 | J20: =$C$15*$C$53*$C$13*$H$33+$C$15*$C$57*$C$13*$H$34+$C$15*$C$25*$C$13*$H$35+$C$15*$C$32*$C$13*$H$36 -> 1.7588696e+08 | M20: =(H20+J20+L20)-(G20+I20+K20) -> 42636527
B21: Degree of efficiency of electric boiler | C21: 1 | D21: % | F21: 11 | G21: =$C$29 -> 0 | H21: =$C$28 -> 0 | I21: =$C$33*$C$53*$C$13 -> 1.3325043e+08 | J21: =$C$15*$C$53*$C$13*$H$33+$C$15*$C$57*$C$13*$H$34+$C$15*$C$25*$C$13*$H$35+$C$15*$C$32*$C$13*$H$36 -> 1.7588696e+08 | M21: =(H21+J21+L21)-(G21+I21+K21) -> 42636527
B22: Unitary energy consumption after petroleum to gas changes | C22: =C15*C19/C16 -> 3427.3684 | D22: kWh | F22: 12 | G22: =$C$29 -> 0 | H22: =$C$28 -> 0 | I22: =$C$33*$C$53*$C$13 -> 1.3325043e+08 | J22: =$C$15*$C$53*$C$13*$H$33+$C$15*$C$57*$C$13*$H$34+$C$15*$C$25*$C$13*$H$35+$C$15*$C$32*$C$13*$H$36 -> 1.7588696e+08 | M22: =(H22+J22+L22)-(G22+I22+K22) -> 42636527
B23: Unitary energy consumption after biomass to gas changes | C23: =C15*C20/C16 -> 1285.2632 | D23: kWh | F23: 13 | G23: =$C$29 -> 0 | H23: =$C$28 -> 0 | I23: =$C$33*$C$53*$C$13 -> 1.3325043e+08 | J23: =$C$15*$C$53*$C$13*$H$33+$C$15*$C$57*$C$13*$H$34+$C$15*$C$25*$C$13*$H$35+$C$15*$C$32*$C$13*$H$36 -> 1.7588696e+08 | M23: =(H23+J23+L23)-(G23+I23+K23) -> 42636527
B24: Unitary energy consumption after electricity to gas changes | C24: =C15*C21/C16 -> 4284.2105 | D24: kWh | F24: 14 | G24: =$C$29 -> 0 | H24: =$C$28 -> 0 | I24: =$C$33*$C$53*$C$13 -> 1.3325043e+08 | J24: =$C$15*$C$53*$C$13*$H$33+$C$15*$C$57*$C$13*$H$34+$C$15*$C$25*$C$13*$H$35+$C$15*$C$32*$C$13*$H$36 -> 1.7588696e+08 | M24: =(H24+J24+L24)-(G24+I24+K24) -> 42636527
B25: Electricity price | C25: ='Energy prices'!$C$6/1000 -> 0.24 | D25: €/kWh | F25: 15 | G25: =$C$29 -> 0 | H25: =$C$28 -> 0 | I25: =$C$33*$C$53*$C$13 -> 1.3325043e+08 | J25: =$C$15*$C$53*$C$13*$H$33+$C$15*$C$57*$C$13*$H$34+$C$15*$C$25*$C$13*$H$35+$C$15*$C$32*$C$13*$H$36 -> 1.7588696e+08 | M25: =(H25+J25+L25)-(G25+I25+K25) -> 42636527
B26: Natural gas price | C26: ='Energy prices'!C8/1000 -> 0.114 | D26: €/kWh | F26: Total | G26: =NPV($C$31,G11:G25)+G10 -> 0 | H26: =NPV($C$31,H11:H25)+H10 -> 0 | I26: =NPV($C$31,I11:I25)+I10 -> 1.5676366e+09 | J26: =NPV($C$31,J11:J25)+J10 -> 2.079155e+09 | K26: =NPV($C$31,K11:K25)+K10 -> 680000000 | L26: =NPV($C$31,L11:L25)+L10 -> 0 | M26: =NPV($C$31,M11:M25)+M10 -> -1.684816e+08
B27: Petroleum price | C27: ='Energy prices'!C7/1000 -> 0.11 | D27: €/kWh
B28: Cost of operation and maintenance - Baseline scenario | C28: 0 | D28: €
B29: Cost of operation and maintenance - Alternative scenario | C29: 0 | D29: €
B30: Remaining value | C30: 0.1 | D30: % investment cost
B31: Discount rate | C31: 0.03 | D31: %
B32: Biomass price | C32: ='Energy prices'!C10/1000 -> 0.017 | D32: €/kWh | G32: Fuel share per households in the region
B33: Final average energy consumption after interventions | C33: =C18*H33+C22*H34+C24*H35+C23*H36 -> 3247.4316 | D33: kWh | G33: Natural gas | H33: 0.48
B34: % of energy savings in space cooling | C34: 0 | D34: % | G34: Petroleum derivatives | H34: 0.2
B35: % of energy savings in space heating | C35: =((C33-C15)/C15)*-1 -> 0.20210526 | D35: % | G35: Electricity | H35: 0.19
B36: Unitary energy savings in space cooling | C36: =C14*C34 -> 0 | D36: kWh | G36: Biomass | H36: 0
B37: Unitary energy savings in space heating | C37: =C15*C35 -> 822.56842 | D37: kWh | G37: Other | H37: 0.12
B38: Natural gas price | C38: ='Energy prices'!C8/1000 -> 0.114 | D38: €/kWh | G38: Total | H38: =SUM(H33:H37) -> 0.99
G40: Tot consumption | H40: =C15*100/67 -> 6074.6269
G41: Cooling (1% of total) | H41: =H40/100*2 -> 121.49254
B43: NPV | C43: =NPV(C31,M11:M25)+M10 -> -1.684816e+08
B44: IRR | C44: =IRR(M10:M25) -> -0.0070746154 | G44: Electricity price | H44: 0.24005
B45: B/C | C45: =(H26+J26+L26)/(G26+I26+K26) -> 0.92504055 | G45: Natural gas price | H45: 0.11395
G46: Petroleum price | H46: 0.11
B47: Subsidy | C47: 0 | D47: % | G47: Biomass price | H47: 0.017
B49: With ETS2 price increase | C49: 1 | D49: (Y=1, N=0)
...

Sheet Sc0-SCBA
C1: Baseline Scenario - Social Cost-Benefit Analysis
B6: Instructions: | C6: all cells indicated in orange need to be filled in.
B9: Available budget for Natural Gas network expansion | C9: ='Sc0-CBA'!C9 -> 680000000 | D9: € | F9: Year | G9: Cost | H9: Benefit | I9: Fuel cost | J9: Fuel benefit | K9: External cost | L9: External benefit | M9: Investment cost | N9: Remaining value | O9: Net cash flow
B10: Unitary investment cost | C10: ='Sc0-CBA'!C10 -> 2000 | D10: € | F10: 0 | L10: =IF(C45=1,C70,0) -> 0 | M10: =(C9-C11*C12)/(1+C83) -> 5.6198347e+08 | O10: =(H10+J10+L10+N10)-(G10+I10+K10+M10) -> -5.6198347e+08
B11: Avoided cost from natural gas boilers | C11: 0 | D11: € | F11: 1 | G11: =$C$28 -> 0 | H11: =$C$28 -> 0 | I11: =$C$32*$C$33*$C$12 -> 1.0378791e+08 | J11: =$C$14*$C$25*$C$12*$H$33+$C$14*$C$26*$C$12*$H$34+$C$14*$C$24*$C$12*$H$35+$C$14*$C$31*$C$12*$H$36 -> 148620120 | K11: =$C$32*$C$55/1000*$C$12 -> 35552881 | L11: =$C$14*$C$63/1000*$C$12*$H$33+$C$14*$C$52/1000*$C$12*$H$34+$C$14*$C$62/1000*$C$12*$H$35+$C$14*$C$61/1000*$C$12*$H$36+(J11-I11)*$C$81*$C$80 -> 65893730 | O11: =(H11+J11+L11+N11)-(G11+I11+K11+M11) -> 75173056
B12: Number of affected households | C12: ='Sc0-CBA'!C13 -> 340000 | D12: number | F12: 2 | G12: =$C$28 -> 0 | H12: =$C$28 -> 0 | I12: =$C$32*$C$33*$C$12 -> 1.0378791e+08 | J12: =$C$14*$C$25*$C$12*$H$33+$C$14*$C$26*$C$12*$H$34+$C$14*$C$24*$C$12*$H$35+$C$14*$C$31*$C$12*$H$36 -> 148620120 | K12: =$C$32*$C$55/1000*$C$12 -> 35552881 | L12: =$C$14*$C$63/1000*$C$12*$H$33+$C$14*$C$52/1000*$C$12*$H$34+$C$14*$C$62/1000*$C$12*$H$35+$C$14*$C$61/1000*$C$12*$H$36+(J12-I12)*$C$81*$C$80 -> 65893730 | O12: =(H12+J12+L12+N12)-(G12+I12+K12+M12) -> 75173056
B13: Unitary energy consumption for space cooling | C13: ='Sc0-CBA'!C14 -> 104 | D13: kWh | F13: 3 | G13: =$C$28 -> 0 | H13: =$C$28 -> 0 | I13: =$C$32*$C$33*$C$12 -> 1.0378791e+08 | J13: =$C$14*$C$25*$C$12*$H$33+$C$14*$C$26*$C$12*$H$34+$C$14*$C$24*$C$12*$H$35+$C$14*$C$31*$C$12*$H$36 -> 148620120 | K13: =$C$32*$C$55/1000*$C$12 -> 35552881 | L13: =$C$14*$C$63/1000*$C$12*$H$33+$C$14*$C$52/1000*$C$12*$H$34+$C$14*$C$62/1000*$C$12*$H$35+$C$14*$C$61/1000*$C$12*$H$36+(J13-I13)*$C$81*$C$80 -> 65893730 | O13: =(H13+J13+L13+N13)-(G13+I13+K13+M13) -> 75173056
B14: Unitary energy consumption for space heating | C14: ='Sc0-CBA'!C15 -> 4070 | D14: kWh | F14: 4 | G14: =$C$28 -> 0 | H14: =$C$28 -> 0 | I14: =$C$32*$C$33*$C$12 -> 1.0378791e+08 | J14: =$C$14*$C$25*$C$12*$H$33+$C$14*$C$26*$C$12*$H$34+$C$14*$C$24*$C$12*$H$35+$C$14*$C$31*$C$12*$H$36 -> 148620120 | K14: =$C$32*$C$55/1000*$C$12 -> 35552881 | L14: =$C$14*$C$63/1000*$C$12*$H$33+$C$14*$C$52/1000*$C$12*$H$34+$C$14*$C$62/1000*$C$12*$H$35+$C$14*$C$61/1000*$C$12*$H$36+(J14-I14)*$C$81*$C$80 -> 65893730 | O14: =(H14+J14+L14+N14)-(G14+I14+K14+M14) -> 75173056
B15: Degree of efficiency of new natural gas boiler | C15: ='Sc0-CBA'!C16 -> 0.95 | D15: % | F15: 5 | G15: =$C$28 -> 0 | H15: =$C$28 -> 0 | I15: =$C$32*$C$33*$C$12 -> 1.0378791e+08 | J15: =$C$14*$C$25*$C$12*$H$33+$C$14*$C$26*$C$12*$H$34+$C$14*$C$24*$C$12*$H$35+$C$14*$C$31*$C$12*$H$36 -> 148620120 | K15: =$C$32*$C$55/1000*$C$12 -> 35552881 | L15: =$C$14*$C$63/1000*$C$12*$H$33+$C$14*$C$52/1000*$C$12*$H$34+$C$14*$C$62/1000*$C$12*$H$35+$C$14*$C$61/1000*$C$12*$H$36+(J15-I15)*$C$81*$C$80 -> 65893730 | O15: =(H15+J15+L15+N15)-(G15+I15+K15+M15) -> 75173056
B16: ='Sc0-CBA'!B17 -> Degree of efficiency of existing natural gas boiler | C16: ='Sc0-CBA'!C17 -> 0.85 | D16: % | F16: 6 | G16: =$C$28 -> 0 | H16: =$C$28 -> 0 | I16: =$C$32*$C$33*$C$12 -> 1.0378791e+08 | J16: =$C$14*$C$25*$C$12*$H$33+$C$14*$C$26*$C$12*$H$34+$C$14*$C$24*$C$12*$H$35+$C$14*$C$31*$C$12*$H$36 -> 148620120 | K16: =$C$32*$C$55/1000*$C$12 -> 35552881 | L16: =$C$14*$C$63/1000*$C$12*$H$33+$C$14*$C$52/1000*$C$12*$H$34+$C$14*$C$62/1000*$C$12*$H$35+$C$14*$C$61/1000*$C$12*$H$36+(J16-I16)*$C$81*$C$80 -> 65893730 | O16: =(H16+J16+L16+N16)-(G16+I16+K16+M16) -> 75173056
B17: Unitary energy consumption after gas to gas changes | C17: =C14*C16/C15 -> 3641.5789 | D17: kWh | F17: 7 | G17: =$C$28 -> 0 | H17: =$C$28 -> 0 | I17: =$C$32*$C$33*$C$12 -> 1.0378791e+08 | J17: =$C$14*$C$25*$C$12*$H$33+$C$14*$C$26*$C$12*$H$34+$C$14*$C$24*$C$12*$H$35+$C$14*$C$31*$C$12*$H$36 -> 148620120 | K17: =$C$32*$C$55/1000*$C$12 -> 35552881 | L17: =$C$14*$C$63/1000*$C$12*$H$33+$C$14*$C$52/1000*$C$12*$H$34+$C$14*$C$62/1000*$C$12*$H$35+$C$14*$C$61/1000*$C$12*$H$36+(J17-I17)*$C$81*$C$80 -> 65893730 | O17: =(H17+J17+L17+N17)-(G17+I17+K17+M17) -> 75173056
B18: ='Sc0-CBA'!B19 -> Degree of efficiency of petroleum boiler | C18: ='Sc0-CBA'!C19 -> 0.8 | D18: % | F18: 8 | G18: =$C$28 -> 0 | H18: =$C$28 -> 0 | I18: =$C$32*$C$33*$C$12 -> 1.0378791e+08 | J18: =$C$14*$C$25*$C$12*$H$33+$C$14*$C$26*$C$12*$H$34+$C$14*$C$24*$C$12*$H$35+$C$14*$C$31*$C$12*$H$36 -> 148620120 | K18: =$C$32*$C$55/1000*$C$12 -> 35552881 | L18: =$C$14*$C$63/1000*$C$12*$H$33+$C$14*$C$52/1000*$C$12*$H$34+$C$14*$C$62/1000*$C$12*$H$35+$C$14*$C$61/1000*$C$12*$H$36+(J18-I18)*$C$81*$C$80 -> 65893730 | O18: =(H18+J18+L18+N18)-(G18+I18+K18+M18) -> 75173056
B19: Degree of efficiency of biomass boiler | C19: ='Sc0-CBA'!C20 -> 0.3 | D19: % | F19: 9 | G19: =$C$28 -> 0 | H19: =$C$28 -> 0 | I19: =$C$32*$C$33*$C$12 -> 1.0378791e+08 | J19: =$C$14*$C$25*$C$12*$H$33+$C$14*$C$26*$C$12*$H$34+$C$14*$C$24*$C$12*$H$35+$C$14*$C$31*$C$12*$H$36 -> 148620120 | K19: =$C$32*$C$55/1000*$C$12 -> 35552881 | L19: =$C$14*$C$63/1000*$C$12*$H$33+$C$14*$C$52/1000*$C$12*$H$34+$C$14*$C$62/1000*$C$12*$H$35+$C$14*$C$61/1000*$C$12*$H$36+(J19-I19)*$C$81*$C$80 -> 65893730 | O19: =(H19+J19+L19+N19)-(G19+I19+K19+M19) -> 75173056
B20: ='Sc0-CBA'!B21 -> Degree of efficiency of electric boiler | C20: ='Sc0-CBA'!C21 -> 1 | D20: % | F20: 10 | G20: =$C$28 -> 0 | H20: =$C$28 -> 0 | I20: =$C$32*$C$33*$C$12 -> 1.0378791e+08 | J20: =$C$14*$C$25*$C$12*$H$33+$C$14*$C$26*$C$12*$H$34+$C$14*$C$24*$C$12*$H$35+$C$14*$C$31*$C$12*$H$36 -> 148620120 | K20: =$C$32*$C$55/1000*$C$12 -> 35552881 | L20: =$C$14*$C$63/1000*$C$12*$H$33+$C$14*$C$52/1000*$C$12*$H$34+$C$14*$C$62/1000*$C$12*$H$35+$C$14*$C$61/1000*$C$12*$H$36+(J20-I20)*$C$81*$C$80 -> 65893730 | O20: =(H20+J20+L20+N20)-(G20+I20+K20+M20) -> 75173056
B21: ='Sc0-CBA'!B22 -> Unitary energy consumption after petroleum to gas changes | C21: =C14*C18/C15 -> 3427.3684 | D21: kWh | F21: 11 | G21: =$C$28 -> 0 | H21: =$C$28 -> 0 | I21: =$C$32*$C$33*$C$12 -> 1.0378791e+08 | J21: =$C$14*$C$25*$C$12*$H$33+$C$14*$C$26*$C$12*$H$34+$C$14*$C$24*$C$12*$H$35+$C$14*$C$31*$C$12*$H$36 -> 148620120 | K21: =$C$32*$C$55/1000*$C$12 -> 35552881 | L21: =$C$14*$C$63/1000*$C$12*$H$33+$C$14*$C$52/1000*$C$12*$H$34+$C$14*$C$62/1000*$C$12*$H$35+$C$14*$C$61/1000*$C$12*$H$36+(J21-I21)*$C$81*$C$80 -> 65893730 | O21: =(H21+J21+L21+N21)-(G21+I21+K21+M21) -> 75173056
B22: Unitary energy consumption after biomass to gas changes | C22: =C14*C19/C15 -> 1285.2632 | D22: kWh | F22: 12 | G22: =$C$28 -> 0 | H22: =$C$28 -> 0 | I22: =$C$32*$C$33*$C$12 -> 1.0378791e+08 | J22: =$C$14*$C$25*$C$12*$H$33+$C$14*$C$26*$C$12*$H$34+$C$14*$C$24*$C$12*$H$35+$C$14*$C$31*$C$12*$H$36 -> 148620120 | K22: =$C$32*$C$55/1000*$C$12 -> 35552881 | L22: =$C$14*$C$63/1000*$C$12*$H$33+$C$14*$C$52/1000*$C$12*$H$34+$C$14*$C$62/1000*$C$12*$H$35+$C$14*$C$61/1000*$C$12*$H$36+(J22-I22)*$C$81*$C$80 -> 65893730 | O22: =(H22+J22+L22+N22)-(G22+I22+K22+M22) -> 75173056
B23: ='Sc0-CBA'!B24 -> Unitary energy consumption after electricity to gas changes | C23: ='Sc0-CBA'!C24 -> 4284.2105 | F23: 13 | G23: =$C$28 -> 0 | H23: =$C$28 -> 0 | I23: =$C$32*$C$33*$C$12 -> 1.0378791e+08 | J23: =$C$14*$C$25*$C$12*$H$33+$C$14*$C$26*$C$12*$H$34+$C$14*$C$24*$C$12*$H$35+$C$14*$C$31*$C$12*$H$36 -> 148620120 | K23: =$C$32*$C$55/1000*$C$12 -> 35552881 | L23: =$C$14*$C$63/1000*$C$12*$H$33+$C$14*$C$52/1000*$C$12*$H$34+$C$14*$C$62/1000*$C$12*$H$35+$C$14*$C$61/1000*$C$12*$H$36+(J23-I23)*$C$81*$C$80 -> 65893730 | O23: =(H23+J23+L23+N23)-(G23+I23+K23+M23) -> 75173056
B24: Electricity price | C24: ='Energy prices'!$D$6/1000 -> 0.212 | D24: €/kWh | F24: 14 | G24: =$C$28 -> 0 | H24: =$C$28 -> 0 | I24: =$C$32*$C$33*$C$12 -> 1.0378791e+08 | J24: =$C$14*$C$25*$C$12*$H$33+$C$14*$C$26*$C$12*$H$34+$C$14*$C$24*$C$12*$H$35+$C$14*$C$31*$C$12*$H$36 -> 148620120 | K24: =$C$32*$C$55/1000*$C$12 -> 35552881 | L24: =$C$14*$C$63/1000*$C$12*$H$33+$C$14*$C$52/1000*$C$12*$H$34+$C$14*$C$62/1000*$C$12*$H$35+$C$14*$C$61/1000*$C$12*$H$36+(J24-I24)*$C$81*$C$80 -> 65893730 | O24: =(H24+J24+L24+N24)-(G24+I24+K24+M24) -> 75173056
B25: ='Sc0-CBA'!B26 -> Natural gas price | C25: ='Energy prices'!D8/1000 -> 0.094 | D25: €/kWh | F25: 15 | G25: =$C$28 -> 0 | H25: =$C$28 -> 0 | I25: =$C$32*$C$33*$C$12 -> 1.0378791e+08 | J25: =$C$14*$C$25*$C$12*$H$33+$C$14*$C$26*$C$12*$H$34+$C$14*$C$24*$C$12*$H$35+$C$14*$C$31*$C$12*$H$36 -> 148620120 | K25: =$C$32*$C$55/1000*$C$12 -> 35552881 | L25: =$C$14*$C$63/1000*$C$12*$H$33+$C$14*$C$52/1000*$C$12*$H$34+$C$14*$C$62/1000*$C$12*$H$35+$C$14*$C$61/1000*$C$12*$H$36+(J25-I25)*$C$81*$C$80 -> 65893730 | O25: =(H25+J25+L25+N25)-(G25+I25+K25+M25) -> 75173056
B26: ='Sc0-CBA'!B27 -> Petroleum price | C26: ='Energy prices'!C7/1000 -> 0.11 | D26: €/kWh | F26: Total | G26: =NPV($C$30,G11:G25)+G10 -> 0 | H26: =NPV($C$30,H11:H25)+H10 -> 0 | I26: =NPV($C$30,I11:I25)+I10 -> 1.2390134e+09 | J26: =NPV($C$30,J11:J25)+J10 -> 1.7742173e+09 | K26: =NPV($C$30,K11:K25)+K10 -> 4.2442798e+08 | L26: =NPV($C$30,L11:L25)+L10 -> 7.8663507e+08 | M26: =NPV($C$30,M11:M25)+M10 -> 5.6198347e+08 | N26: =NPV($C$30,N11:N25)+N10 -> 0 | O26: =NPV($C$30,O11:O25)+O10 -> 3.3542759e+08
B27: Cost of operation and maintenance - Baseline scenario | C27: 0 | D27: €
B28: Cost of operation and maintenance - Alternative scenario | C28: 0 | D28: €
B29: Remaining value | C29: 0.1 | D29: % of capital cost
B30: Discount rate | C30: 0.03 | D30: %
B31: Biomass price | C31: ='Energy prices'!C10/1000 -> 0.017 | D31: €/kWh
B32: Final average energy consumption after interventions | C32: =C17*H33+C21*H34+C23*H35+C22*H36 -> 3247.4316 | D32: kWh | G32: ='Sc0-CBA'!G32 -> Fuel share per households in the region
B33: Natural gas price | C33: ='Energy prices'!D8/1000 -> 0.094 | D33: €/kWh | G33: ='Sc0-CBA'!G33 -> Natural gas | H33: ='Sc0-CBA'!H33 -> 0.48
B34: % of energy savings in space cooling | C34: 0 | D34: % | G34: ='Sc0-CBA'!G34 -> Petroleum derivatives | H34: ='Sc0-CBA'!H34 -> 0.2
B35: % of energy savings in space heating | C35: =((C32-C14)/C14)*-1 -> 0.20210526 | D35: % | G35: Electricity | H35: ='Sc0-CBA'!H35 -> 0.19
B36: Energy savings in space cooling | C36: =C13*C34 -> 0 | D36: kWh | G36: Biomass | H36: ='Sc0-CBA'!H36 -> 0
B37: Energy savings in space heating | C37: =C14*C35 -> 822.56842 | D37: kWh | G37: Other | H37: ='Sc0-CBA'!H37 -> 0.12
G38: Total | H38: =SUM(H33:H37) -> 0.99
B41: NPV | C41: =NPV(C30,O11:O25)+O10 -> 3.3542759e+08
B42: IRR | C42: =IRR(O10:O25) -> 0.10304067
B43: B/C | C43: =(H26+L26+J26+N26)/(G26+I26+K26+M26) -> 1.1507252
B45: Building value integration | C45: 2 | D45: 1: yes, 2: no
B46: Employment method | C46: 2 | D46: 1: net, 2: gross
B47: Type of multiple benefits | C47: 1 | D47: 1-5 or 0
B49: Enviromental externalities
B50: Data | C50: external cost
...

Sheet Sc1 Deep-CBA
C1: Scenario 1 - Deep Renovation Cost-Benefit Analysis
B6: Instructions: | C6: all cells indicated in orange need to be filled in.
B9: Available budget for Natural Gas network expansion | C9: ='Sc0-CBA'!C9 -> 680000000 | D9: € | F9: Year | G9: Cost | H9: Benefit | I9: Fuel cost | J9: Fuel benefit | K9: Investment cost | L9: Remaining value | M9: Net cash flow
B10: Unitary investment cost | C10: 17000 | D10: € | F10: 0 | K10: =C9-C12*C13 -> 680000000 | M10: =(H10+J10+L10)-(G10+I10+K10) -> -680000000
B11: Unitary investment cost with subsidy | C11: =C10*(1-C41) -> 17000 | D11: € | F11: 1 | G11: =$C$25 -> 0 | H11: =$C$24 -> 0 | I11: 0 | J11: =$C$18*$C$20*$C$13+($C$19*$C$21*$C$13*$C$34+$C$19*$C$22*$C$13*$C$35+$C$19*$C$20*$C$13*$C$36+$C$19*$C$23*$C$13*$C$37) -> 14429346 | M11: =(H11+J11+L11)-(G11+I11+K11) -> 14429346
B12: Avoided cost from natural gas boiler | C12: 0 | D12: € | F12: 2 | G12: =$C$25 -> 0 | H12: =$C$24 -> 0 | I12: 0 | J12: =$C$18*$C$20*$C$13+($C$19*$C$21*$C$13*$C$34+$C$19*$C$22*$C$13*$C$35+$C$19*$C$20*$C$13*$C$36+$C$19*$C$23*$C$13*$C$37) -> 14429346 | M12: =(H12+J12+L12)-(G12+I12+K12) -> 14429346
B13: Number of influenced households | C13: =C9/C11 -> 40000 | D13: number of households | F13: 3 | G13: =$C$25 -> 0 | H13: =$C$24 -> 0 | I13: 0 | J13: =$C$18*$C$20*$C$13+($C$19*C44*$C$13*$C$34+$C$19*C48*$C$13*$C$35+$C$19*$C$20*$C$13*$C$36+$C$19*$C$23*$C$13*$C$37) -> 14485998 | M13: =(H13+J13+L13)-(G13+I13+K13) -> 14485998
B14: Unitary energy consumption for space cooling | C14: ='Sc0-CBA'!C14 -> 104 | D14: kWh | F14: 4 | G14: =$C$25 -> 0 | H14: =$C$24 -> 0 | I14: 0 | J14: =$C$18*$C$20*$C$13+($C$19*C45*$C$13*$C$34+$C$19*C49*$C$13*$C$35+$C$19*$C$20*$C$13*$C$36+$C$19*$C$23*$C$13*$C$37) -> 14814007 | M14: =(H14+J14+L14)-(G14+I14+K14) -> 14814007
B15: Unitary energy consumption for space heating | C15: ='Sc0-CBA'!C15 -> 4070 | D15: kWh | F15: 5 | G15: =$C$25 -> 0 | H15: =$C$24 -> 0 | I15: 0 | J15: =$C$18*$C$20*$C$13+($C$19*C46*$C$13*$C$34+$C$19*C50*$C$13*$C$35+$C$19*$C$20*$C$13*$C$36+$C$19*$C$23*$C$13*$C$37) -> 14890393 | M15: =(H15+J15+L15)-(G15+I15+K15) -> 14890393
B16: % of energy savings in space cooling | C16: 0.69 | D16: % | F16: 6 | G16: =$C$25 -> 0 | H16: =$C$24 -> 0 | I16: 0 | J16: =$C$18*$C$20*$C$13+($C$19*$C$47*$C$13*$C$34+$C$19*$C$51*$C$13*$C$35+$C$19*$C$20*$C$13*$C$36+$C$19*$C$23*$C$13*$C$37) -> 14966778 | M16: =(H16+J16+L16)-(G16+I16+K16) -> 14966778
B17: % of energy savings in space heating | C17: 0.69 | D17: % | F17: 7 | G17: =$C$25 -> 0 | H17: =$C$24 -> 0 | I17: 0 | J17: =$C$18*$C$20*$C$13+($C$19*$C$47*$C$13*$C$34+$C$19*$C$51*$C$13*$C$35+$C$19*$C$20*$C$13*$C$36+$C$19*$C$23*$C$13*$C$37) -> 14966778 | M17: =(H17+J17+L17)-(G17+I17+K17) -> 14966778
B18: Energy savings in space cooling | C18: =C14*C16 -> 71.76 | D18: kWh | F18: 8 | G18: =$C$25 -> 0 | H18: =$C$24 -> 0 | I18: 0 | J18: =$C$18*$C$20*$C$13+($C$19*$C$47*$C$13*$C$34+$C$19*$C$51*$C$13*$C$35+$C$19*$C$20*$C$13*$C$36+$C$19*$C$23*$C$13*$C$37) -> 14966778 | M18: =(H18+J18+L18)-(G18+I18+K18) -> 14966778
B19: Energy savings in space heating | C19: =C15*C17 -> 2808.3 | D19: kWh | F19: 9 | G19: =$C$25 -> 0 | H19: =$C$24 -> 0 | I19: 0 | J19: =$C$18*$C$20*$C$13+($C$19*$C$47*$C$13*$C$34+$C$19*$C$51*$C$13*$C$35+$C$19*$C$20*$C$13*$C$36+$C$19*$C$23*$C$13*$C$37) -> 14966778 | M19: =(H19+J19+L19)-(G19+I19+K19) -> 14966778
B20: Electricity price | C20: ='Energy prices'!$C$6/1000 -> 0.24 | D20: €/kWh | F20: 10 | G20: =$C$25 -> 0 | H20: =$C$24 -> 0 | I20: 0 | J20: =$C$18*$C$20*$C$13+($C$19*$C$47*$C$13*$C$34+$C$19*$C$51*$C$13*$C$35+$C$19*$C$20*$C$13*$C$36+$C$19*$C$23*$C$13*$C$37) -> 14966778 | M20: =(H20+J20+L20)-(G20+I20+K20) -> 14966778
B21: ='Sc0-CBA'!B26 -> Natural gas price | C21: ='Sc0-CBA'!C26 -> 0.114 | D21: €/kWh | F21: 11 | G21: =$C$25 -> 0 | H21: =$C$24 -> 0 | I21: 0 | J21: =$C$18*$C$20*$C$13+($C$19*$C$47*$C$13*$C$34+$C$19*$C$51*$C$13*$C$35+$C$19*$C$20*$C$13*$C$36+$C$19*$C$23*$C$13*$C$37) -> 14966778 | M21: =(H21+J21+L21)-(G21+I21+K21) -> 14966778
B22: ='Sc0-CBA'!B27 -> Petroleum price | C22: ='Energy prices'!C7/1000 -> 0.11 | D22: €/kWh | F22: 12 | G22: =$C$25 -> 0 | H22: =$C$24 -> 0 | I22: 0 | J22: =$C$18*$C$20*$C$13+($C$19*$C$47*$C$13*$C$34+$C$19*$C$51*$C$13*$C$35+$C$19*$C$20*$C$13*$C$36+$C$19*$C$23*$C$13*$C$37) -> 14966778 | M22: =(H22+J22+L22)-(G22+I22+K22) -> 14966778
B23: Biomass price | C23: ='Energy prices'!C10/1000 -> 0.017 | D23: €/kWh | F23: 13 | G23: =$C$25 -> 0 | H23: =$C$24 -> 0 | I23: 0 | J23: =$C$18*$C$20*$C$13+($C$19*$C$47*$C$13*$C$34+$C$19*$C$51*$C$13*$C$35+$C$19*$C$20*$C$13*$C$36+$C$19*$C$23*$C$13*$C$37) -> 14966778 | M23: =(H23+J23+L23)-(G23+I23+K23) -> 14966778
B24: Cost of operation and maintenance - Baseline scenario | C24: 0 | D24: € | F24: 14 | G24: =$C$25 -> 0 | H24: =$C$24 -> 0 | I24: 0 | J24: =$C$18*$C$20*$C$13+($C$19*$C$47*$C$13*$C$34+$C$19*$C$51*$C$13*$C$35+$C$19*$C$20*$C$13*$C$36+$C$19*$C$23*$C$13*$C$37) -> 14966778 | M24: =(H24+J24+L24)-(G24+I24+K24) -> 14966778
B25: Cost of operation and maintenance - Alternative scenario | C25: 0 | D25: € | F25: 15 | G25: =$C$25 -> 0 | H25: =$C$24 -> 0 | I25: 0 | J25: =$C$18*$C$20*$C$13+($C$19*$C$47*$C$13*$C$34+$C$19*$C$51*$C$13*$C$35+$C$19*$C$20*$C$13*$C$36+$C$19*$C$23*$C$13*$C$37) -> 14966778 | M25: =(H25+J25+L25)-(G25+I25+K25) -> 14966778
B26: Remaining value | C26: 0.1 | D26: % of investment cost | F26: 16 | G26: =$C$25 -> 0 | H26: =$C$24 -> 0 | I26: 0 | J26: =$C$18*$C$20*$C$13+($C$19*$C$47*$C$13*$C$34+$C$19*$C$51*$C$13*$C$35+$C$19*$C$20*$C$13*$C$36+$C$19*$C$23*$C$13*$C$37) -> 14966778 | M26: =(H26+J26+L26)-(G26+I26+K26) -> 14966778
B27: Discount rate | C27: 0.03 | D27: % | F27: 17 | G27: =$C$25 -> 0 | H27: =$C$24 -> 0 | I27: 0 | J27: =$C$18*$C$20*$C$13+($C$19*$C$47*$C$13*$C$34+$C$19*$C$51*$C$13*$C$35+$C$19*$C$20*$C$13*$C$36+$C$19*$C$23*$C$13*$C$37) -> 14966778 | M27: =(H27+J27+L27)-(G27+I27+K27) -> 14966778
F28: 18 | G28: =$C$25 -> 0 | H28: =$C$24 -> 0 | I28: 0 | J28: =$C$18*$C$20*$C$13+($C$19*$C$47*$C$13*$C$34+$C$19*$C$51*$C$13*$C$35+$C$19*$C$20*$C$13*$C$36+$C$19*$C$23*$C$13*$C$37) -> 14966778 | M28: =(H28+J28+L28)-(G28+I28+K28) -> 14966778
B29: NPV | C29: =NPV(C27,M11:M35)+M10 -> -4.2105125e+08 | F29: 19 | G29: =$C$25 -> 0 | H29: =$C$24 -> 0 | I29: 0 | J29: =$C$18*$C$20*$C$13+($C$19*$C$47*$C$13*$C$34+$C$19*$C$51*$C$13*$C$35+$C$19*$C$20*$C$13*$C$36+$C$19*$C$23*$C$13*$C$37) -> 14966778 | M29: =(H29+J29+L29)-(G29+I29+K29) -> 14966778
B30: IRR | C30: =IRR(M10:M35) -> -0.04168825 | F30: 20 | G30: =$C$25 -> 0 | H30: =$C$24 -> 0 | I30: 0 | J30: =$C$18*$C$20*$C$13+($C$19*$C$47*$C$13*$C$34+$C$19*$C$51*$C$13*$C$35+$C$19*$C$20*$C$13*$C$36+$C$19*$C$23*$C$13*$C$37) -> 14966778 | M30: =(H30+J30+L30)-(G30+I30+K30) -> 14966778
B31: B/C | C31: =(H36+J36+L36)/(G36+I36+K36) -> 0.38080699 | F31: 21 | G31: =$C$25 -> 0 | H31: =$C$24 -> 0 | I31: 0 | J31: =$C$18*$C$20*$C$13+($C$19*$C$47*$C$13*$C$34+$C$19*$C$51*$C$13*$C$35+$C$19*$C$20*$C$13*$C$36+$C$19*$C$23*$C$13*$C$37) -> 14966778 | M31: =(H31+J31+L31)-(G31+I31+K31) -> 14966778
F32: 22 | G32: =$C$25 -> 0 | H32: =$C$24 -> 0 | I32: 0 | J32: =$C$18*$C$20*$C$13+($C$19*$C$47*$C$13*$C$34+$C$19*$C$51*$C$13*$C$35+$C$19*$C$20*$C$13*$C$36+$C$19*$C$23*$C$13*$C$37) -> 14966778 | M32: =(H32+J32+L32)-(G32+I32+K32) -> 14966778
B33: ='Sc0-CBA'!G32 -> Fuel share per households in the region | F33: 23 | G33: =$C$25 -> 0 | H33: =$C$24 -> 0 | I33: 0 | J33: =$C$18*$C$20*$C$13+($C$19*$C$47*$C$13*$C$34+$C$19*$C$51*$C$13*$C$35+$C$19*$C$20*$C$13*$C$36+$C$19*$C$23*$C$13*$C$37) -> 14966778 | M33: =(H33+J33+L33)-(G33+I33+K33) -> 14966778
B34: ='Sc0-CBA'!G33 -> Natural gas | C34: ='Sc0-CBA'!H33 -> 0.48 | F34: 24 | G34: =$C$25 -> 0 | H34: =$C$24 -> 0 | I34: 0 | J34: =$C$18*$C$20*$C$13+($C$19*$C$47*$C$13*$C$34+$C$19*$C$51*$C$13*$C$35+$C$19*$C$20*$C$13*$C$36+$C$19*$C$23*$C$13*$C$37) -> 14966778 | M34: =(H34+J34+L34)-(G34+I34+K34) -> 14966778
B35: ='Sc0-CBA'!G34 -> Petroleum derivatives | C35: ='Sc0-CBA'!H34 -> 0.2 | F35: 25 | G35: =$C$25 -> 0 | H35: =$C$24 -> 0 | I35: 0 | J35: =$C$18*$C$20*$C$13+($C$19*$C$47*$C$13*$C$34+$C$19*$C$51*$C$13*$C$35+$C$19*$C$20*$C$13*$C$36+$C$19*$C$23*$C$13*$C$37) -> 14966778 | M35: =(H35+J35+L35)-(G35+I35+K35) -> 14966778
B36: Electricity | C36: ='Sc0-CBA'!H35 -> 0.19 | F36: Total | G36: =NPV($C$27,G11:G35)+G10 -> 0 | H36: =NPV($C$27,H11:H35)+H10 -> 0 | I36: =NPV($C$27,I11:I35)+I10 -> 0 | J36: =NPV($C$27,J11:J35)+J10 -> 2.5894875e+08 | K36: =NPV($C$27,K11:K35)+K10 -> 680000000 | L36: =NPV($C$27,L11:L35)+L10 -> 0 | M36: =NPV($C$27,M11:M35)+M10 -> -4.2105125e+08
B37: Biomass | C37: ='Sc0-CBA'!H36 -> 0
B38: Other | C38: ='Sc0-CBA'!H37 -> 0.12
B39: Total | C39: =SUM(C34:C38) -> 0.99
B41: Subsidy | C41: 0 | D41: %
B43: With ETS2 price increase | C43: 1 | D43: (Y=1, N=0)
B44: NG price ETS2 Year 3 | C44: =IF(C43=1,C21*(1+D44),C21) -> 0.114684 | D44: 0.006
B45: NG price ETS2 Year 4 | C45: =IF(C43=1,C44+D45,C21) -> 0.118684 | D45: 0.004
B46: NG price ETS2 Year 5 | C46: =IF(C43=1,C45+D46,C21) -> 0.119684 | D46: 0.001
B47: NG price ETS2 Year 6 | C47: =IF(C43=1,C46+D47,C21) -> 0.120684 | D47: 0.001
B48: ='Sc0-CBA'!B54 -> Petroleum price ETS 2 Year 3 | C48: =IF(C43=1,C22*(1+D48),C22) -> 0.11088 | D48: 0.008
...

Sheet Sc1 Medium-CBA
C1: Scenario 1 - Medium Renovation Cost-Benefit Analysis
B6: Instructions: | C6: all cells indicated in orange need to be filled in.
B9: Available budget for Natural Gas network expansion | C9: ='Sc0-CBA'!C9 -> 680000000 | D9: € | F9: Year | G9: Cost | H9: Benefit | I9: Fuel cost | J9: Fuel benefit | K9: Investment cost | L9: Remaining value | M9: Net cash flow
B10: Unitary investment cost | C10: 13000 | D10: € | F10: 0 | K10: =C9-C12*C13 -> 680000000 | M10: =(H10+J10+L10)-(G10+I10+K10) -> -680000000
B11: Unitary investment cost with subsidy | C11: =C10*(1-C41) -> 13000 | D11: € | F11: 1 | G11: =$C$25 -> 0 | H11: =$C$24 -> 0 | I11: 0 | J11: =$C$18*$C$20*$C$13+($C$19*$C$21*$C$13*$C$34+$C$19*$C$22*$C$13*$C$35+$C$19*$C$20*$C$13*$C$36+$C$19*$C$23*$C$13*$C$37) -> 15314089 | M11: =(H11+J11+L11)-(G11+I11+K11) -> 15314089
B12: Avoided cost from natural gas boiler | C12: 0 | D12: € | F12: 2 | G12: =$C$25 -> 0 | H12: =$C$24 -> 0 | I12: 0 | J12: =$C$18*$C$20*$C$13+($C$19*$C$21*$C$13*$C$34+$C$19*$C$22*$C$13*$C$35+$C$19*$C$20*$C$13*$C$36+$C$19*$C$23*$C$13*$C$37) -> 15314089 | M12: =(H12+J12+L12)-(G12+I12+K12) -> 15314089
B13: Number of influenced households | C13: =C9/C11 -> 52307.692 | D13: number of households | F13: 3 | G13: =$C$25 -> 0 | H13: =$C$24 -> 0 | I13: 0 | J13: =$C$18*$C$20*$C$13+($C$19*C44*$C$13*$C$34+$C$19*C48*$C$13*$C$35+$C$19*$C$20*$C$13*$C$36+$C$19*$C$23*$C$13*$C$37) -> 15374214 | M13: =(H13+J13+L13)-(G13+I13+K13) -> 15374214
B14: Unitary energy consumption for space cooling | C14: ='Sc0-CBA'!C14 -> 104 | D14: kWh | F14: 4 | G14: =$C$25 -> 0 | H14: =$C$24 -> 0 | I14: 0 | J14: =$C$18*$C$20*$C$13+($C$19*C45*$C$13*$C$34+$C$19*C49*$C$13*$C$35+$C$19*$C$20*$C$13*$C$36+$C$19*$C$23*$C$13*$C$37) -> 15722335 | M14: =(H14+J14+L14)-(G14+I14+K14) -> 15722335
B15: Unitary energy consumption for space heating | C15: ='Sc0-CBA'!C15 -> 4070 | D15: kWh | F15: 5 | G15: =$C$25 -> 0 | H15: =$C$24 -> 0 | I15: 0 | J15: =$C$18*$C$20*$C$13+($C$19*C46*$C$13*$C$34+$C$19*C50*$C$13*$C$35+$C$19*$C$20*$C$13*$C$36+$C$19*$C$23*$C$13*$C$37) -> 15803405 | M15: =(H15+J15+L15)-(G15+I15+K15) -> 15803405
B16: % of energy savings in space cooling | C16: 0.56 | D16: % | F16: 6 | G16: =$C$25 -> 0 | H16: =$C$24 -> 0 | I16: 0 | J16: =$C$18*$C$20*$C$13+($C$19*$C$47*$C$13*$C$34+$C$19*$C$51*$C$13*$C$35+$C$19*$C$20*$C$13*$C$36+$C$19*$C$23*$C$13*$C$37) -> 15884474 | M16: =(H16+J16+L16)-(G16+I16+K16) -> 15884474
B17: % of energy savings in space heating | C17: 0.56 | D17: % | F17: 7 | G17: =$C$25 -> 0 | H17: =$C$24 -> 0 | I17: 0 | J17: =$C$18*$C$20*$C$13+($C$19*$C$47*$C$13*$C$34+$C$19*$C$51*$C$13*$C$35+$C$19*$C$20*$C$13*$C$36+$C$19*$C$23*$C$13*$C$37) -> 15884474 | M17: =(H17+J17+L17)-(G17+I17+K17) -> 15884474
B18: Energy savings in space cooling | C18: =C14*C16 -> 58.24 | D18: kWh | F18: 8 | G18: =$C$25 -> 0 | H18: =$C$24 -> 0 | I18: 0 | J18: =$C$18*$C$20*$C$13+($C$19*$C$47*$C$13*$C$34+$C$19*$C$51*$C$13*$C$35+$C$19*$C$20*$C$13*$C$36+$C$19*$C$23*$C$13*$C$37) -> 15884474 | M18: =(H18+J18+L18)-(G18+I18+K18) -> 15884474
B19: Energy savings in space heating | C19: =C15*C17 -> 2279.2 | D19: kWh | F19: 9 | G19: =$C$25 -> 0 | H19: =$C$24 -> 0 | I19: 0 | J19: =$C$18*$C$20*$C$13+($C$19*$C$47*$C$13*$C$34+$C$19*$C$51*$C$13*$C$35+$C$19*$C$20*$C$13*$C$36+$C$19*$C$23*$C$13*$C$37) -> 15884474 | M19: =(H19+J19+L19)-(G19+I19+K19) -> 15884474
B20: Electricity price | C20: ='Energy prices'!$C$6/1000 -> 0.24 | D20: €/kWh | F20: 10 | G20: =$C$25 -> 0 | H20: =$C$24 -> 0 | I20: 0 | J20: =$C$18*$C$20*$C$13+($C$19*$C$47*$C$13*$C$34+$C$19*$C$51*$C$13*$C$35+$C$19*$C$20*$C$13*$C$36+$C$19*$C$23*$C$13*$C$37) -> 15884474 | M20: =(H20+J20+L20)-(G20+I20+K20) -> 15884474
B21: ='Sc0-CBA'!B26 -> Natural gas price | C21: ='Sc0-CBA'!C26 -> 0.114 | D21: €/kWh | F21: 11 | G21: =$C$25 -> 0 | H21: =$C$24 -> 0 | I21: 0 | J21: =$C$18*$C$20*$C$13+($C$19*$C$47*$C$13*$C$34+$C$19*$C$51*$C$13*$C$35+$C$19*$C$20*$C$13*$C$36+$C$19*$C$23*$C$13*$C$37) -> 15884474 | M21: =(H21+J21+L21)-(G21+I21+K21) -> 15884474
B22: ='Sc0-CBA'!B27 -> Petroleum price | C22: ='Energy prices'!C7/1000 -> 0.11 | D22: €/kWh | F22: 12 | G22: =$C$25 -> 0 | H22: =$C$24 -> 0 | I22: 0 | J22: =$C$18*$C$20*$C$13+($C$19*$C$47*$C$13*$C$34+$C$19*$C$51*$C$13*$C$35+$C$19*$C$20*$C$13*$C$36+$C$19*$C$23*$C$13*$C$37) -> 15884474 | M22: =(H22+J22+L22)-(G22+I22+K22) -> 15884474
B23: Biomass price | C23: ='Energy prices'!C10/1000 -> 0.017 | D23: €/kWh | F23: 13 | G23: =$C$25 -> 0 | H23: =$C$24 -> 0 | I23: 0 | J23: =$C$18*$C$20*$C$13+($C$19*$C$47*$C$13*$C$34+$C$19*$C$51*$C$13*$C$35+$C$19*$C$20*$C$13*$C$36+$C$19*$C$23*$C$13*$C$37) -> 15884474 | M23: =(H23+J23+L23)-(G23+I23+K23) -> 15884474
B24: Cost of operation and maintenance - Baseline scenario | C24: 0 | D24: € | F24: 14 | G24: =$C$25 -> 0 | H24: =$C$24 -> 0 | I24: 0 | J24: =$C$18*$C$20*$C$13+($C$19*$C$47*$C$13*$C$34+$C$19*$C$51*$C$13*$C$35+$C$19*$C$20*$C$13*$C$36+$C$19*$C$23*$C$13*$C$37) -> 15884474 | M24: =(H24+J24+L24)-(G24+I24+K24) -> 15884474
B25: Cost of operation and maintenance - Alternative scenario | C25: 0 | D25: € | F25: 15 | G25: =$C$25 -> 0 | H25: =$C$24 -> 0 | I25: 0 | J25: =$C$18*$C$20*$C$13+($C$19*$C$47*$C$13*$C$34+$C$19*$C$51*$C$13*$C$35+$C$19*$C$20*$C$13*$C$36+$C$19*$C$23*$C$13*$C$37) -> 15884474 | M25: =(H25+J25+L25)-(G25+I25+K25) -> 15884474
B26: Remaining value | C26: 0.1 | D26: % of investment cost | F26: 16 | G26: =$C$25 -> 0 | H26: =$C$24 -> 0 | I26: 0 | J26: =$C$18*$C$20*$C$13+($C$19*$C$47*$C$13*$C$34+$C$19*$C$51*$C$13*$C$35+$C$19*$C$20*$C$13*$C$36+$C$19*$C$23*$C$13*$C$37) -> 15884474 | M26: =(H26+J26+L26)-(G26+I26+K26) -> 15884474
B27: Discount rate | C27: 0.03 | D27: % | F27: 17 | G27: =$C$25 -> 0 | H27: =$C$24 -> 0 | I27: 0 | J27: =$C$18*$C$20*$C$13+($C$19*$C$47*$C$13*$C$34+$C$19*$C$51*$C$13*$C$35+$C$19*$C$20*$C$13*$C$36+$C$19*$C$23*$C$13*$C$37) -> 15884474 | M27: =(H27+J27+L27)-(G27+I27+K27) -> 15884474
F28: 18 | G28: =$C$25 -> 0 | H28: =$C$24 -> 0 | I28: 0 | J28: =$C$18*$C$20*$C$13+($C$19*$C$47*$C$13*$C$34+$C$19*$C$51*$C$13*$C$35+$C$19*$C$20*$C$13*$C$36+$C$19*$C$23*$C$13*$C$37) -> 15884474 | M28: =(H28+J28+L28)-(G28+I28+K28) -> 15884474
B29: NPV | C29: =NPV(C27,M11:M35)+M10 -> -4.0517367e+08 | F29: 19 | G29: =$C$25 -> 0 | H29: =$C$24 -> 0 | I29: 0 | J29: =$C$18*$C$20*$C$13+($C$19*$C$47*$C$13*$C$34+$C$19*$C$51*$C$13*$C$35+$C$19*$C$20*$C$13*$C$36+$C$19*$C$23*$C$13*$C$37) -> 15884474 | M29: =(H29+J29+L29)-(G29+I29+K29) -> 15884474
B30: IRR | C30: =IRR(M10:M35) -> -0.037907653 | F30: 20 | G30: =$C$25 -> 0 | H30: =$C$24 -> 0 | I30: 0 | J30: =$C$18*$C$20*$C$13+($C$19*$C$47*$C$13*$C$34+$C$19*$C$51*$C$13*$C$35+$C$19*$C$20*$C$13*$C$36+$C$19*$C$23*$C$13*$C$37) -> 15884474 | M30: =(H30+J30+L30)-(G30+I30+K30) -> 15884474
B31: B/C | C31: =(H36+J36+L36)/(G36+I36+K36) -> 0.40415636 | F31: 21 | G31: =$C$25 -> 0 | H31: =$C$24 -> 0 | I31: 0 | J31: =$C$18*$C$20*$C$13+($C$19*$C$47*$C$13*$C$34+$C$19*$C$51*$C$13*$C$35+$C$19*$C$20*$C$13*$C$36+$C$19*$C$23*$C$13*$C$37) -> 15884474 | M31: =(H31+J31+L31)-(G31+I31+K31) -> 15884474
F32: 22 | G32: =$C$25 -> 0 | H32: =$C$24 -> 0 | I32: 0 | J32: =$C$18*$C$20*$C$13+($C$19*$C$47*$C$13*$C$34+$C$19*$C$51*$C$13*$C$35+$C$19*$C$20*$C$13*$C$36+$C$19*$C$23*$C$13*$C$37) -> 15884474 | M32: =(H32+J32+L32)-(G32+I32+K32) -> 15884474
B33: ='Sc0-CBA'!G32 -> Fuel share per households in the region | F33: 23 | G33: =$C$25 -> 0 | H33: =$C$24 -> 0 | I33: 0 | J33: =$C$18*$C$20*$C$13+($C$19*$C$47*$C$13*$C$34+$C$19*$C$51*$C$13*$C$35+$C$19*$C$20*$C$13*$C$36+$C$19*$C$23*$C$13*$C$37) -> 15884474 | M33: =(H33+J33+L33)-(G33+I33+K33) -> 15884474
B34: ='Sc0-CBA'!G33 -> Natural gas | C34: ='Sc0-CBA'!H33 -> 0.48 | F34: 24 | G34: =$C$25 -> 0 | H34: =$C$24 -> 0 | I34: 0 | J34: =$C$18*$C$20*$C$13+($C$19*$C$47*$C$13*$C$34+$C$19*$C$51*$C$13*$C$35+$C$19*$C$20*$C$13*$C$36+$C$19*$C$23*$C$13*$C$37) -> 15884474 | M34: =(H34+J34+L34)-(G34+I34+K34) -> 15884474
B35: ='Sc0-CBA'!G34 -> Petroleum derivatives | C35: ='Sc0-CBA'!H34 -> 0.2 | F35: 25 | G35: =$C$25 -> 0 | H35: =$C$24 -> 0 | I35: 0 | J35: =$C$18*$C$20*$C$13+($C$19*$C$47*$C$13*$C$34+$C$19*$C$51*$C$13*$C$35+$C$19*$C$20*$C$13*$C$36+$C$19*$C$23*$C$13*$C$37) -> 15884474 | M35: =(H35+J35+L35)-(G35+I35+K35) -> 15884474
B36: Electricity | C36: ='Sc0-CBA'!H35 -> 0.19 | F36: Total | G36: =NPV($C$27,G11:G35)+G10 -> 0 | H36: =NPV($C$27,H11:H35)+H10 -> 0 | I36: =NPV($C$27,I11:I35)+I10 -> 0 | J36: =NPV($C$27,J11:J35)+J10 -> 2.7482633e+08 | K36: =NPV($C$27,K11:K35)+K10 -> 680000000 | L36: =NPV($C$27,L11:L35)+L10 -> 0 | M36: =NPV($C$27,M11:M35)+M10 -> -4.0517367e+08
B37: Biomass | C37: ='Sc0-CBA'!H36 -> 0
B38: Other | C38: ='Sc0-CBA'!H37 -> 0.12
B39: Total | C39: =SUM(C34:C38) -> 0.99
B41: Subsidy | C41: 0 | D41: %
B43: With ETS2 price increase | C43: 1 | D43: (Y=1, N=0)
B44: NG price ETS2 Year 3 | C44: =IF(C43=1,C21*(1+D44),C21) -> 0.114684 | D44: 0.006
B45: NG price ETS2 Year 4 | C45: =IF(C43=1,C44+D45,C21) -> 0.118684 | D45: 0.004
B46: NG price ETS2 Year 5 | C46: =IF(C43=1,C45+D46,C21) -> 0.119684 | D46: 0.001
B47: NG price ETS2 Year 6 | C47: =IF(C43=1,C46+D47,C21) -> 0.120684 | D47: 0.001
B48: ='Sc0-CBA'!B54 -> Petroleum price ETS 2 Year 3 | C48: =IF(C43=1,C22*(1+D48),C22) -> 0.11088 | D48: 0.008
...

Sheet Sc1 Deep-SCBA
C1: Scenario 1 - Deep Renovation Social Cost-Benefit Analysis
B6: Instructions: | C6: all cells indicated in orange need to be filled in.
B9: Available budget for Natural Gas network expansion | C9: ='Sc1 Deep-CBA'!C9 -> 680000000 | D9: € | F9: Year | G9: Cost | H9: Benefit | I9: Fuel cost | J9: Fuel benefit | K9: External cost | L9: External benefit | M9: Investment cost | N9: Remaining value | O9: Net cash flow
B10: Unitary investment cost with subsidy | C10: ='Sc1 Deep-CBA'!C10 -> 17000 | D10: € | F10: 0 | L10: =IF(C40=1,C66,0) -> 4.2243272e+08 | M10: =(C9-C11*C12)/(1+C79) -> 5.6198347e+08 | O10: =(H10+J10+L10+N10)-(G10+I10+K10+M10) -> -1.3955075e+08
B11: Avoided cost from new fossil fuel boiler | C11: 0 | D11: € | F11: 1 | G11: =$C$24 -> 0 | H11: =$C$23 -> 0 | I11: 0 | J11: =$C$17*$C$19*$C$12+($C$18*$C$20*$C$12*$C$33+$C$18*$C$21*$C$12*$C$34+$C$18*$C$19*$C$12*$C$35+$C$18*$C$22*$C$12*$C$36) -> 12672982 | K11: =$C$13*(1-$C$15)*$C$12*$C$54/1000+($C$14*(1-$C$16)*$C$59/1000*$C$12*$C$33+$C$14*(1-$C$16)*$C$48/1000*$C$12*$C$34+$C$14*(1-$C$16)*$C$58/1000*$C$12*$C$35+$C$14*(1-$C$16)*$C$57/1000*$C$12*$C$36) -> 2433027.6 | L11: =$C$17*$C$54/1000*$C$12+($C$18*$C$59/1000*$C$12*$C$33+$C$18*$C$48/1000*$C$12*$C$34+$C$18*$C$58/1000*$C$12*$C$35+$C$18*$C$57/1000*$C$12*$C$36)+(J11-I11)*$C$76*$C$77 -> 5415448.4 | O11: =(H11+J11+L11+N11)-(G11+I11+K11+M11) -> 15655402
B12: Number of affected households | C12: =C9/C10 -> 40000 | D12: number of households | F12: 2 | G12: =$C$24 -> 0 | H12: =$C$23 -> 0 | I12: 0 | J12: =$C$17*$C$19*$C$12+($C$18*$C$20*$C$12*$C$33+$C$18*$C$21*$C$12*$C$34+$C$18*$C$19*$C$12*$C$35+$C$18*$C$22*$C$12*$C$36) -> 12672982 | K12: =$C$13*(1-$C$15)*$C$12*$C$54/1000+($C$14*(1-$C$16)*$C$59/1000*$C$12*$C$33+$C$14*(1-$C$16)*$C$48/1000*$C$12*$C$34+$C$14*(1-$C$16)*$C$58/1000*$C$12*$C$35+$C$14*(1-$C$16)*$C$57/1000*$C$12*$C$36) -> 2433027.6 | L12: =$C$17*$C$54/1000*$C$12+($C$18*$C$59/1000*$C$12*$C$33+$C$18*$C$48/1000*$C$12*$C$34+$C$18*$C$58/1000*$C$12*$C$35+$C$18*$C$57/1000*$C$12*$C$36)+(J12-I12)*$C$76*$C$77 -> 5415448.4 | O12: =(H12+J12+L12+N12)-(G12+I12+K12+M12) -> 15655402
B13: Unitary energy consumption for space cooling | C13: ='Sc0-CBA'!C14 -> 104 | D13: kWh | F13: 3 | G13: =$C$24 -> 0 | H13: =$C$23 -> 0 | I13: 0 | J13: =$C$17*$C$19*$C$12+($C$18*$C$20*$C$12*$C$33+$C$18*$C$21*$C$12*$C$34+$C$18*$C$19*$C$12*$C$35+$C$18*$C$22*$C$12*$C$36) -> 12672982 | K13: =$C$13*(1-$C$15)*$C$12*$C$54/1000+($C$14*(1-$C$16)*$C$59/1000*$C$12*$C$33+$C$14*(1-$C$16)*$C$48/1000*$C$12*$C$34+$C$14*(1-$C$16)*$C$58/1000*$C$12*$C$35+$C$14*(1-$C$16)*$C$57/1000*$C$12*$C$36) -> 2433027.6 | L13: =$C$17*$C$54/1000*$C$12+($C$18*$C$59/1000*$C$12*$C$33+$C$18*$C$48/1000*$C$12*$C$34+$C$18*$C$58/1000*$C$12*$C$35+$C$18*$C$57/1000*$C$12*$C$36)+(J13-I13)*$C$76*$C$77 -> 5415448.4 | O13: =(H13+J13+L13+N13)-(G13+I13+K13+M13) -> 15655402
B14: Unitary energy consumption for space heating | C14: ='Sc0-CBA'!C15 -> 4070 | D14: kWh | F14: 4 | G14: =$C$24 -> 0 | H14: =$C$23 -> 0 | I14: 0 | J14: =$C$17*$C$19*$C$12+($C$18*$C$20*$C$12*$C$33+$C$18*$C$21*$C$12*$C$34+$C$18*$C$19*$C$12*$C$35+$C$18*$C$22*$C$12*$C$36) -> 12672982 | K14: =$C$13*(1-$C$15)*$C$12*$C$54/1000+($C$14*(1-$C$16)*$C$59/1000*$C$12*$C$33+$C$14*(1-$C$16)*$C$48/1000*$C$12*$C$34+$C$14*(1-$C$16)*$C$58/1000*$C$12*$C$35+$C$14*(1-$C$16)*$C$57/1000*$C$12*$C$36) -> 2433027.6 | L14: =$C$17*$C$54/1000*$C$12+($C$18*$C$59/1000*$C$12*$C$33+$C$18*$C$48/1000*$C$12*$C$34+$C$18*$C$58/1000*$C$12*$C$35+$C$18*$C$57/1000*$C$12*$C$36)+(J14-I14)*$C$76*$C$77 -> 5415448.4 | O14: =(H14+J14+L14+N14)-(G14+I14+K14+M14) -> 15655402
B15: % of energy savings in space cooling | C15: ='Sc1 Deep-CBA'!C16 -> 0.69 | D15: % | F15: 5 | G15: =$C$24 -> 0 | H15: =$C$23 -> 0 | I15: 0 | J15: =$C$17*$C$19*$C$12+($C$18*$C$20*$C$12*$C$33+$C$18*$C$21*$C$12*$C$34+$C$18*$C$19*$C$12*$C$35+$C$18*$C$22*$C$12*$C$36) -> 12672982 | K15: =$C$13*(1-$C$15)*$C$12*$C$54/1000+($C$14*(1-$C$16)*$C$59/1000*$C$12*$C$33+$C$14*(1-$C$16)*$C$48/1000*$C$12*$C$34+$C$14*(1-$C$16)*$C$58/1000*$C$12*$C$35+$C$14*(1-$C$16)*$C$57/1000*$C$12*$C$36) -> 2433027.6 | L15: =$C$17*$C$54/1000*$C$12+($C$18*$C$59/1000*$C$12*$C$33+$C$18*$C$48/1000*$C$12*$C$34+$C$18*$C$58/1000*$C$12*$C$35+$C$18*$C$57/1000*$C$12*$C$36)+(J15-I15)*$C$76*$C$77 -> 5415448.4 | O15: =(H15+J15+L15+N15)-(G15+I15+K15+M15) -> 15655402
B16: % of energy savings in space heating | C16: ='Sc1 Deep-CBA'!C17 -> 0.69 | D16: % | F16: 6 | G16: =$C$24 -> 0 | H16: =$C$23 -> 0 | I16: 0 | J16: =$C$17*$C$19*$C$12+($C$18*$C$20*$C$12*$C$33+$C$18*$C$21*$C$12*$C$34+$C$18*$C$19*$C$12*$C$35+$C$18*$C$22*$C$12*$C$36) -> 12672982 | K16: =$C$13*(1-$C$15)*$C$12*$C$54/1000+($C$14*(1-$C$16)*$C$59/1000*$C$12*$C$33+$C$14*(1-$C$16)*$C$48/1000*$C$12*$C$34+$C$14*(1-$C$16)*$C$58/1000*$C$12*$C$35+$C$14*(1-$C$16)*$C$57/1000*$C$12*$C$36) -> 2433027.6 | L16: =$C$17*$C$54/1000*$C$12+($C$18*$C$59/1000*$C$12*$C$33+$C$18*$C$48/1000*$C$12*$C$34+$C$18*$C$58/1000*$C$12*$C$35+$C$18*$C$57/1000*$C$12*$C$36)+(J16-I16)*$C$76*$C$77 -> 5415448.4 | O16: =(H16+J16+L16+N16)-(G16+I16+K16+M16) -> 15655402
B17: Energy savings in space cooling | C17: =C13*C15 -> 71.76 | D17: kWh | F17: 7 | G17: =$C$24 -> 0 | H17: =$C$23 -> 0 | I17: 0 | J17: =$C$17*$C$19*$C$12+($C$18*$C$20*$C$12*$C$33+$C$18*$C$21*$C$12*$C$34+$C$18*$C$19*$C$12*$C$35+$C$18*$C$22*$C$12*$C$36) -> 12672982 | K17: =$C$13*(1-$C$15)*$C$12*$C$54/1000+($C$14*(1-$C$16)*$C$59/1000*$C$12*$C$33+$C$14*(1-$C$16)*$C$48/1000*$C$12*$C$34+$C$14*(1-$C$16)*$C$58/1000*$C$12*$C$35+$C$14*(1-$C$16)*$C$57/1000*$C$12*$C$36) -> 2433027.6 | L17: =$C$17*$C$54/1000*$C$12+($C$18*$C$59/1000*$C$12*$C$33+$C$18*$C$48/1000*$C$12*$C$34+$C$18*$C$58/1000*$C$12*$C$35+$C$18*$C$57/1000*$C$12*$C$36)+(J17-I17)*$C$76*$C$77 -> 5415448.4 | O17: =(H17+J17+L17+N17)-(G17+I17+K17+M17) -> 15655402
B18: Energy savings in space heating | C18: =C14*C16 -> 2808.3 | D18: kWh | F18: 8 | G18: =$C$24 -> 0 | H18: =$C$23 -> 0 | I18: 0 | J18: =$C$17*$C$19*$C$12+($C$18*$C$20*$C$12*$C$33+$C$18*$C$21*$C$12*$C$34+$C$18*$C$19*$C$12*$C$35+$C$18*$C$22*$C$12*$C$36) -> 12672982 | K18: =$C$13*(1-$C$15)*$C$12*$C$54/1000+($C$14*(1-$C$16)*$C$59/1000*$C$12*$C$33+$C$14*(1-$C$16)*$C$48/1000*$C$12*$C$34+$C$14*(1-$C$16)*$C$58/1000*$C$12*$C$35+$C$14*(1-$C$16)*$C$57/1000*$C$12*$C$36) -> 2433027.6 | L18: =$C$17*$C$54/1000*$C$12+($C$18*$C$59/1000*$C$12*$C$33+$C$18*$C$48/1000*$C$12*$C$34+$C$18*$C$58/1000*$C$12*$C$35+$C$18*$C$57/1000*$C$12*$C$36)+(J18-I18)*$C$76*$C$77 -> 5415448.4 | O18: =(H18+J18+L18+N18)-(G18+I18+K18+M18) -> 15655402
B19: Electricity price | C19: ='Energy prices'!$D$6/1000 -> 0.212 | D19: €/kWh | F19: 9 | G19: =$C$24 -> 0 | H19: =$C$23 -> 0 | I19: 0 | J19: =$C$17*$C$19*$C$12+($C$18*$C$20*$C$12*$C$33+$C$18*$C$21*$C$12*$C$34+$C$18*$C$19*$C$12*$C$35+$C$18*$C$22*$C$12*$C$36) -> 12672982 | K19: =$C$13*(1-$C$15)*$C$12*$C$54/1000+($C$14*(1-$C$16)*$C$59/1000*$C$12*$C$33+$C$14*(1-$C$16)*$C$48/1000*$C$12*$C$34+$C$14*(1-$C$16)*$C$58/1000*$C$12*$C$35+$C$14*(1-$C$16)*$C$57/1000*$C$12*$C$36) -> 2433027.6 | L19: =$C$17*$C$54/1000*$C$12+($C$18*$C$59/1000*$C$12*$C$33+$C$18*$C$48/1000*$C$12*$C$34+$C$18*$C$58/1000*$C$12*$C$35+$C$18*$C$57/1000*$C$12*$C$36)+(J19-I19)*$C$76*$C$77 -> 5415448.4 | O19: =(H19+J19+L19+N19)-(G19+I19+K19+M19) -> 15655402
B20: ='Sc0-CBA'!B26 -> Natural gas price | C20: ='Sc0-SCBA'!C25 -> 0.094 | D20: €/kWh | F20: 10 | G20: =$C$24 -> 0 | H20: =$C$23 -> 0 | I20: 0 | J20: =$C$17*$C$19*$C$12+($C$18*$C$20*$C$12*$C$33+$C$18*$C$21*$C$12*$C$34+$C$18*$C$19*$C$12*$C$35+$C$18*$C$22*$C$12*$C$36) -> 12672982 | K20: =$C$13*(1-$C$15)*$C$12*$C$54/1000+($C$14*(1-$C$16)*$C$59/1000*$C$12*$C$33+$C$14*(1-$C$16)*$C$48/1000*$C$12*$C$34+$C$14*(1-$C$16)*$C$58/1000*$C$12*$C$35+$C$14*(1-$C$16)*$C$57/1000*$C$12*$C$36) -> 2433027.6 | L20: =$C$17*$C$54/1000*$C$12+($C$18*$C$59/1000*$C$12*$C$33+$C$18*$C$48/1000*$C$12*$C$34+$C$18*$C$58/1000*$C$12*$C$35+$C$18*$C$57/1000*$C$12*$C$36)+(J20-I20)*$C$76*$C$77 -> 5415448.4 | O20: =(H20+J20+L20+N20)-(G20+I20+K20+M20) -> 15655402
B21: ='Sc0-CBA'!B27 -> Petroleum price | C21: ='Energy prices'!C7/1000 -> 0.11 | D21: €/kWh | F21: 11 | G21: =$C$24 -> 0 | H21: =$C$23 -> 0 | I21: 0 | J21: =$C$17*$C$19*$C$12+($C$18*$C$20*$C$12*$C$33+$C$18*$C$21*$C$12*$C$34+$C$18*$C$19*$C$12*$C$35+$C$18*$C$22*$C$12*$C$36) -> 12672982 | K21: =$C$13*(1-$C$15)*$C$12*$C$54/1000+($C$14*(1-$C$16)*$C$59/1000*$C$12*$C$33+$C$14*(1-$C$16)*$C$48/1000*$C$12*$C$34+$C$14*(1-$C$16)*$C$58/1000*$C$12*$C$35+$C$14*(1-$C$16)*$C$57/1000*$C$12*$C$36) -> 2433027.6 | L21: =$C$17*$C$54/1000*$C$12+($C$18*$C$59/1000*$C$12*$C$33+$C$18*$C$48/1000*$C$12*$C$34+$C$18*$C$58/1000*$C$12*$C$35+$C$18*$C$57/1000*$C$12*$C$36)+(J21-I21)*$C$76*$C$77 -> 5415448.4 | O21: =(H21+J21+L21+N21)-(G21+I21+K21+M21) -> 15655402
B22: Biomass price | C22: ='Energy prices'!C10/1000 -> 0.017 | D22: €/kWh | F22: 12 | G22: =$C$24 -> 0 | H22: =$C$23 -> 0 | I22: 0 | J22: =$C$17*$C$19*$C$12+($C$18*$C$20*$C$12*$C$33+$C$18*$C$21*$C$12*$C$34+$C$18*$C$19*$C$12*$C$35+$C$18*$C$22*$C$12*$C$36) -> 12672982 | K22: =$C$13*(1-$C$15)*$C$12*$C$54/1000+($C$14*(1-$C$16)*$C$59/1000*$C$12*$C$33+$C$14*(1-$C$16)*$C$48/1000*$C$12*$C$34+$C$14*(1-$C$16)*$C$58/1000*$C$12*$C$35+$C$14*(1-$C$16)*$C$57/1000*$C$12*$C$36) -> 2433027.6 | L22: =$C$17*$C$54/1000*$C$12+($C$18*$C$59/1000*$C$12*$C$33+$C$18*$C$48/1000*$C$12*$C$34+$C$18*$C$58/1000*$C$12*$C$35+$C$18*$C$57/1000*$C$12*$C$36)+(J22-I22)*$C$76*$C$77 -> 5415448.4 | O22: =(H22+J22+L22+N22)-(G22+I22+K22+M22) -> 15655402
B23: Cost of operation and maintenance - Baseline scenario | C23: 0 | D23: € | F23: 13 | G23: =$C$24 -> 0 | H23: =$C$23 -> 0 | I23: 0 | J23: =$C$17*$C$19*$C$12+($C$18*$C$20*$C$12*$C$33+$C$18*$C$21*$C$12*$C$34+$C$18*$C$19*$C$12*$C$35+$C$18*$C$22*$C$12*$C$36) -> 12672982 | K23: =$C$13*(1-$C$15)*$C$12*$C$54/1000+($C$14*(1-$C$16)*$C$59/1000*$C$12*$C$33+$C$14*(1-$C$16)*$C$48/1000*$C$12*$C$34+$C$14*(1-$C$16)*$C$58/1000*$C$12*$C$35+$C$14*(1-$C$16)*$C$57/1000*$C$12*$C$36) -> 2433027.6 | L23: =$C$17*$C$54/1000*$C$12+($C$18*$C$59/1000*$C$12*$C$33+$C$18*$C$48/1000*$C$12*$C$34+$C$18*$C$58/1000*$C$12*$C$35+$C$18*$C$57/1000*$C$12*$C$36)+(J23-I23)*$C$76*$C$77 -> 5415448.4 | O23: =(H23+J23+L23+N23)-(G23+I23+K23+M23) -> 15655402
B24: Cost of operation and maintenance - Alternative scenario | C24: 0 | D24: € | F24: 14 | G24: =$C$24 -> 0 | H24: =$C$23 -> 0 | I24: 0 | J24: =$C$17*$C$19*$C$12+($C$18*$C$20*$C$12*$C$33+$C$18*$C$21*$C$12*$C$34+$C$18*$C$19*$C$12*$C$35+$C$18*$C$22*$C$12*$C$36) -> 12672982 | K24: =$C$13*(1-$C$15)*$C$12*$C$54/1000+($C$14*(1-$C$16)*$C$59/1000*$C$12*$C$33+$C$14*(1-$C$16)*$C$48/1000*$C$12*$C$34+$C$14*(1-$C$16)*$C$58/1000*$C$12*$C$35+$C$14*(1-$C$16)*$C$57/1000*$C$12*$C$36) -> 2433027.6 | L24: =$C$17*$C$54/1000*$C$12+($C$18*$C$59/1000*$C$12*$C$33+$C$18*$C$48/1000*$C$12*$C$34+$C$18*$C$58/1000*$C$12*$C$35+$C$18*$C$57/1000*$C$12*$C$36)+(J24-I24)*$C$76*$C$77 -> 5415448.4 | O24: =(H24+J24+L24+N24)-(G24+I24+K24+M24) -> 15655402
B25: Remaining value | C25: 0.1 | D25: % of investment cost | F25: 15 | G25: =$C$24 -> 0 | H25: =$C$23 -> 0 | I25: 0 | J25: =$C$17*$C$19*$C$12+($C$18*$C$20*$C$12*$C$33+$C$18*$C$21*$C$12*$C$34+$C$18*$C$19*$C$12*$C$35+$C$18*$C$22*$C$12*$C$36) -> 12672982 | K25: =$C$13*(1-$C$15)*$C$12*$C$54/1000+($C$14*(1-$C$16)*$C$59/1000*$C$12*$C$33+$C$14*(1-$C$16)*$C$48/1000*$C$12*$C$34+$C$14*(1-$C$16)*$C$58/1000*$C$12*$C$35+$C$14*(1-$C$16)*$C$57/1000*$C$12*$C$36) -> 2433027.6 | L25: =$C$17*$C$54/1000*$C$12+($C$18*$C$59/1000*$C$12*$C$33+$C$18*$C$48/1000*$C$12*$C$34+$C$18*$C$58/1000*$C$12*$C$35+$C$18*$C$57/1000*$C$12*$C$36)+(J25-I25)*$C$76*$C$77 -> 5415448.4 | O25: =(H25+J25+L25+N25)-(G25+I25+K25+M25) -> 15655402
B26: Discount rate | C26: 0.03 | D26: % | F26: 16 | G26: =$C$24 -> 0 | H26: =$C$23 -> 0 | I26: 0 | J26: =$C$17*$C$19*$C$12+($C$18*$C$20*$C$12*$C$33+$C$18*$C$21*$C$12*$C$34+$C$18*$C$19*$C$12*$C$35+$C$18*$C$22*$C$12*$C$36) -> 12672982 | K26: =$C$13*(1-$C$15)*$C$12*$C$54/1000+($C$14*(1-$C$16)*$C$59/1000*$C$12*$C$33+$C$14*(1-$C$16)*$C$48/1000*$C$12*$C$34+$C$14*(1-$C$16)*$C$58/1000*$C$12*$C$35+$C$14*(1-$C$16)*$C$57/1000*$C$12*$C$36) -> 2433027.6 | L26: =$C$17*$C$54/1000*$C$12+($C$18*$C$59/1000*$C$12*$C$33+$C$18*$C$48/1000*$C$12*$C$34+$C$18*$C$58/1000*$C$12*$C$35+$C$18*$C$57/1000*$C$12*$C$36)+(J26-I26)*$C$76*$C$77 -> 5415448.4 | O26: =(H26+J26+L26+N26)-(G26+I26+K26+M26) -> 15655402
F27: 17 | G27: =$C$24 -> 0 | H27: =$C$23 -> 0 | I27: 0 | J27: =$C$17*$C$19*$C$12+($C$18*$C$20*$C$12*$C$33+$C$18*$C$21*$C$12*$C$34+$C$18*$C$19*$C$12*$C$35+$C$18*$C$22*$C$12*$C$36) -> 12672982 | K27: =$C$13*(1-$C$15)*$C$12*$C$54/1000+($C$14*(1-$C$16)*$C$59/1000*$C$12*$C$33+$C$14*(1-$C$16)*$C$48/1000*$C$12*$C$34+$C$14*(1-$C$16)*$C$58/1000*$C$12*$C$35+$C$14*(1-$C$16)*$C$57/1000*$C$12*$C$36) -> 2433027.6 | L27: =$C$17*$C$54/1000*$C$12+($C$18*$C$59/1000*$C$12*$C$33+$C$18*$C$48/1000*$C$12*$C$34+$C$18*$C$58/1000*$C$12*$C$35+$C$18*$C$57/1000*$C$12*$C$36)+(J27-I27)*$C$76*$C$77 -> 5415448.4 | O27: =(H27+J27+L27+N27)-(G27+I27+K27+M27) -> 15655402
